BEGIN:VCALENDAR
VERSION:2.0
PRODID:gresten.gv.at
X-PUBLISHED-TTL:P1D
BEGIN:VEVENT
UID:69e74a6b040f6
DTSTART:20260606T000000
SEQUENCE:0
TRANSP:OPAQUE
DTEND:20260606T000000
LOCATION:Gosau
SUMMARY:Action am Fels
CLASS:PUBLIC
DESCRIPTION:Adrenalin\, Tiefblick und echtes Klettersteig-Feeling. Der Stei
 g führt hinauf auf den Großen Donnerkogel mit 2054 Metern Seehöhe. Oben
  wartet ein Panorama über den Gosaukamm und das Dachsteinmassiv.\nAnforde
 rungen: Sehr gute Kondition\, absolute Schwindelfreiheit\, Erfahrung im Kl
 ettersteiggehen\, Komplette Klettersteigausrüstung mit Helm\, Gurt und Se
 t.\nNähere Infos auf unserer Website (siehe Veranstalterlink).\nKontakt:\
 nRobert Plank\nTel: 0699/13640901\nMail: robert.plank@naturfreunde.at\n
DTSTAMP:20260421T115907Z
END:VEVENT
END:VCALENDAR