BEGIN:VCALENDAR
VERSION:2.0
PRODID:gresten.gv.at
X-PUBLISHED-TTL:P1D
BEGIN:VEVENT
UID:69e7566707bea
DTSTART:20260530T090000
SEQUENCE:0
TRANSP:OPAQUE
DTEND:20260530T170000
LOCATION:Klettersteig am Hochkar
SUMMARY:Klettersteig-Kurs für Anfänger
CLASS:PUBLIC
DESCRIPTION:Du wolltest schon immer einmal die aufregende Welt der Kletters
 teige kennenlernen? Dann ist unser Klettersteiggrundkurs genau das Richtig
 e für dich! Unter der fachkundigen Anleitung von Robert Plank Übungsleit
 er Klettersteig\, vermitteln wir dir alle wichtigen Grundlagen\, um sicher
  und mit viel Spaß in diesem faszinierenden Sport unterwegs zu sein. \nMe
 hr Infos gibt es auf unserer Website (siehe Veranstalterlink).\nKontakt: \
 nRobert Plank\nTel: 0699/13640901\nMail: robert.plank@naturfreunde.at\n
DTSTAMP:20260421T125015Z
END:VEVENT
END:VCALENDAR