BEGIN:VCALENDAR
VERSION:2.0
PRODID:ferschnitz.gv.at
X-PUBLISHED-TTL:P1D
BEGIN:VEVENT
UID:69e733d45fa89
DTSTART:20261017T083000
SEQUENCE:0
TRANSP:OPAQUE
DTEND:20261017T113000
LOCATION:Ortsplatz Ferschnitz
SUMMARY:Regionalmarkt
CLASS:PUBLIC
DTSTAMP:20260421T102244Z
END:VEVENT
END:VCALENDAR