BEGIN:VCALENDAR
VERSION:2.0
PRODID:oed-oehling.gv.at
X-PUBLISHED-TTL:P1D
BEGIN:VEVENT
UID:69e73259a7ecb
DTSTART:20260329T100000
SEQUENCE:0
TRANSP:OPAQUE
DTEND:20260329T100000
LOCATION:Areal der NÖ Landesausstellung\, Parkplatz Kaiserweg
SUMMARY:ORF Radio NÖ Frühschoppen - NÖLA 26
CLASS:PUBLIC
DTSTAMP:20260421T101625Z
END:VEVENT
END:VCALENDAR