BEGIN:VCALENDAR
VERSION:2.0
PRODID:gresten.gv.at
X-PUBLISHED-TTL:P1D
BEGIN:VEVENT
UID:69e74bf002d0b
DTSTART:20260718T000000
SEQUENCE:0
TRANSP:OPAQUE
DTEND:20260718T000000
LOCATION:Freibad Gresten
SUMMARY:Yoga im Freibad
CLASS:PUBLIC
DESCRIPTION:NUR BEI BADEBETRIEBTrainerin: Birgit Wurzer 0676/370 72 58Ort: 
 Freibad GrestenFreiwillige Spende!
DTSTAMP:20260421T120536Z
END:VEVENT
END:VCALENDAR