BEGIN:VCALENDAR
VERSION:2.0
PRODID:st-pantaleon-erla.gv.at
X-PUBLISHED-TTL:P1D
BEGIN:VEVENT
UID:69e9a1301110e
DTSTART:20260606T170000
SEQUENCE:0
TRANSP:OPAQUE
DTEND:20260606T170000
LOCATION:Sportplatz
SUMMARY:Heimspiel - Rainbach
CLASS:PUBLIC
DTSTAMP:20260423T063352Z
END:VEVENT
END:VCALENDAR