BEGIN:VCALENDAR
VERSION:2.0
PRODID:st-pantaleon-erla.gv.at
X-PUBLISHED-TTL:P1D
BEGIN:VEVENT
UID:69e9a30671deb
DTSTART:20260530T170000
SEQUENCE:0
TRANSP:OPAQUE
DTEND:20260530T170000
LOCATION:Sportplatz
SUMMARY:Heimspiel - Bad Zell
CLASS:PUBLIC
DTSTAMP:20260423T064142Z
END:VEVENT
END:VCALENDAR