BEGIN:VCALENDAR
VERSION:2.0
PRODID:st-pantaleon-erla.gv.at
X-PUBLISHED-TTL:P1D
BEGIN:VEVENT
UID:69e9a15e79aeb
DTSTART:20260509T170000
SEQUENCE:0
TRANSP:OPAQUE
DTEND:20260509T170000
LOCATION:Sportplatz
SUMMARY:Heimspiel - Mauthausen
CLASS:PUBLIC
DTSTAMP:20260423T063438Z
END:VEVENT
END:VCALENDAR