BEGIN:VCALENDAR
VERSION:2.0
PRODID:st-pantaleon-erla.gv.at
X-PUBLISHED-TTL:P1D
BEGIN:VEVENT
UID:69e9a2509124a
DTSTART:20260502T160000
SEQUENCE:0
TRANSP:OPAQUE
DTEND:20260502T160000
LOCATION:Sportplatz
SUMMARY:Heimspiel - Pregarten 1B
CLASS:PUBLIC
DTSTAMP:20260423T063840Z
END:VEVENT
END:VCALENDAR