BEGIN:VCALENDAR
VERSION:2.0
PRODID:gresten.gv.at
X-PUBLISHED-TTL:P1D
BEGIN:VEVENT
UID:69e4f2c3c5ce1
DTSTART:20260724T190000
SEQUENCE:0
TRANSP:OPAQUE
DTEND:20260724T230000
LOCATION:Spielplatz beim Friedhof
SUMMARY:Sommerabendkonzert
CLASS:PUBLIC
DTSTAMP:20260419T172035Z
END:VEVENT
END:VCALENDAR