BEGIN:VCALENDAR
VERSION:2.0
PRODID:behamberg.gv.at
X-PUBLISHED-TTL:P1D
BEGIN:VEVENT
UID:69e5fabba1eae
DTSTART:20260511T180000
SEQUENCE:0
TRANSP:OPAQUE
DTEND:20260511T190000
SUMMARY:RückenZeit – offene Rückenstunde
CLASS:PUBLIC
DESCRIPTION:Sanfte\, geführte Rückenstunde mit Mobilisation\, Faszienarbe
 it\, Atmung und Körperwahrnehmung.\nRückenZeit richtet sich an Menschen\
 , die ihrem Rücken etwas Gutes tun möchten – ohne Leistungsdruck und o
 hne Vorkenntnisse.\nDie Stunde ist offen für neue Teilnehmer:innen und ei
 gnet sich ideal zum Kennenlernen.\n
DTSTAMP:20260420T120651Z
END:VEVENT
END:VCALENDAR