BEGIN:VCALENDAR
VERSION:2.0
PRODID:behamberg.gv.at
X-PUBLISHED-TTL:P1D
BEGIN:VEVENT
UID:69e5eb9a9724a
DTSTART:20260420T180000
SEQUENCE:0
TRANSP:OPAQUE
DTEND:20260420T190000
SUMMARY:RückenZeit – offene Rückenstunde
CLASS:PUBLIC
DESCRIPTION:Sanfte\, geführte Rückenstunde mit Mobilisation\, Faszienarbe
 it\, Atmung und Körperwahrnehmung.\nRückenZeit richtet sich an Menschen\
 , die ihrem Rücken etwas Gutes tun möchten – ohne Leistungsdruck und o
 hne Vorkenntnisse.\nDie Stunde ist offen für neue Teilnehmer:innen und ei
 gnet sich ideal zum Kennenlernen.\n
DTSTAMP:20260420T110218Z
END:VEVENT
END:VCALENDAR