BEGIN:VCALENDAR
VERSION:2.0
PRODID:st-pantaleon-erla.gv.at
X-PUBLISHED-TTL:P1D
BEGIN:VEVENT
UID:69e9a0483d8af
DTSTART:20261212T150000
SEQUENCE:0
TRANSP:OPAQUE
DTEND:20261212T230000
LOCATION:Feuerwehr Erla
SUMMARY:Punschstand 
CLASS:PUBLIC
DTSTAMP:20260423T063000Z
END:VEVENT
END:VCALENDAR