BEGIN:VCALENDAR
VERSION:2.0
PRODID:st-pantaleon-erla.gv.at
X-PUBLISHED-TTL:P1D
BEGIN:VEVENT
UID:69e9a40e2eb6a
DTSTART:20260912T080000
SEQUENCE:0
TRANSP:OPAQUE
DTEND:20260912T180000
LOCATION:Stockplatz
SUMMARY:Ortsmeisterschaft Stocksport
CLASS:PUBLIC
DTSTAMP:20260423T064606Z
END:VEVENT
END:VCALENDAR