BEGIN:VCALENDAR
VERSION:2.0
PRODID:st-pantaleon-erla.gv.at
X-PUBLISHED-TTL:P1D
BEGIN:VEVENT
UID:69e9a0d77a8d4
DTSTART:20260829T080000
SEQUENCE:0
TRANSP:OPAQUE
DTEND:20260829T180000
LOCATION:Stockplatz
SUMMARY:Stockturnier
CLASS:PUBLIC
DTSTAMP:20260423T063223Z
END:VEVENT
END:VCALENDAR