BEGIN:VCALENDAR
VERSION:2.0
PRODID:st-pantaleon-erla.gv.at
X-PUBLISHED-TTL:P1D
BEGIN:VEVENT
UID:69e9a0771483d
DTSTART:20260828T180000
SEQUENCE:0
TRANSP:OPAQUE
DTEND:20260828T230000
LOCATION:Stockplatz
SUMMARY:Stockturnier
CLASS:PUBLIC
DTSTAMP:20260423T063047Z
END:VEVENT
END:VCALENDAR