BEGIN:VCALENDAR
VERSION:2.0
PRODID:oed-oehling.gv.at
X-PUBLISHED-TTL:P1D
BEGIN:VEVENT
UID:69e7582b419c4
DTSTART:20260324T060000
SEQUENCE:0
TRANSP:OPAQUE
DTEND:20260326T170000
LOCATION:Gemeindegebiet Oed-Oehling 
SUMMARY:Rieselkehren im gesamten Gemeindegebiet | 24. bis 26. März 2026
CLASS:PUBLIC
DESCRIPTION:Der Termin der Rieselkehrung ist witterungsabhängig\, eine Ter
 minverschiebung wird rechtzeitig über das Gemeinde-WhatsApp sowie über d
 iverse Social-Media-Kanäle bekannt gegeben.&nbsp\;An den bekanntgegebenen
  Tagen erfolgt die Rieselkehrung der Gemeindestraßen mit der Kehrmaschine
 .Wir bitten alle Gemeindebürgerinnen und Gemeindebürger\, die an ihre Li
 egenschaften angrenzenden Nebenflächen\, Straßenränder\, Gehsteige\, We
 ge sowie Hauseinfahrten zu säubern und den Splitt auf die Straße zu kehr
 en\, damit dieser von der Kehrmaschine vollständig aufgenommen werden kan
 n.Bitte keinen Splitt in Haufen zusammenkehren\, da diese von der Kehrmasc
 hine nicht aufgenommen werden können. Gartenabfälle und Laub dürfen nic
 ht mitgekehrt werden.Vielen Dank für Ihre Mithilfe!
DTSTAMP:20260421T125747Z
END:VEVENT
END:VCALENDAR