BEGIN:VCALENDAR
VERSION:2.0
PRODID:oed-oehling.gv.at
X-PUBLISHED-TTL:P1D
BEGIN:VEVENT
UID:69e54fbca4fab
DTSTART:20260326T153000
SEQUENCE:0
TRANSP:OPAQUE
DTEND:20260326T153000
LOCATION:Kindergarten Öhling / Bewegungsraum
SUMMARY:Eltern-Kind-Turnen
CLASS:PUBLIC
DTSTAMP:20260419T235716Z
END:VEVENT
END:VCALENDAR