BEGIN:VCALENDAR
VERSION:2.0
PRODID:st-pantaleon-erla.gv.at
X-PUBLISHED-TTL:P1D
BEGIN:VEVENT
UID:69e9a445dee1c
DTSTART:20260613T120000
SEQUENCE:0
TRANSP:OPAQUE
DTEND:20260613T222000
SUMMARY:Fahrt zu den Passionsspielen 
CLASS:PUBLIC
DTSTAMP:20260423T064701Z
END:VEVENT
END:VCALENDAR