BEGIN:VCALENDAR
VERSION:2.0
PRODID:oed-oehling.gv.at
X-PUBLISHED-TTL:P1D
BEGIN:VEVENT
UID:69e7302a09442
DTSTART:20260325T163000
SEQUENCE:0
TRANSP:OPAQUE
DTEND:20260325T163000
LOCATION:Gemeindegebiet Oed-Oehling / TP Haaberg
SUMMARY:Flurreinigung \"Frühjahrsputz\"
CLASS:PUBLIC
DTSTAMP:20260421T100706Z
END:VEVENT
END:VCALENDAR