BEGIN:VCALENDAR
VERSION:2.0
PRODID:st-georgen-reith.gv.at
X-PUBLISHED-TTL:P1D
BEGIN:VEVENT
UID:69e8b9e06837e
DTSTART:20260718T000000
SEQUENCE:0
TRANSP:OPAQUE
DTEND:20260718T000000
SUMMARY:Wandertag
CLASS:PUBLIC
DTSTAMP:20260422T140656Z
END:VEVENT
END:VCALENDAR