BEGIN:VCALENDAR
VERSION:2.0
PRODID:oed-oehling.gv.at
X-PUBLISHED-TTL:P1D
BEGIN:VEVENT
UID:69e734d48c665
DTSTART:20261003T160000
SEQUENCE:0
TRANSP:OPAQUE
DTEND:20261003T235500
LOCATION:Feuerwehrhaus Mauer-Öhling
SUMMARY:Weinheuriger
CLASS:PUBLIC
DTSTAMP:20260421T102700Z
END:VEVENT
END:VCALENDAR