BEGIN:VCALENDAR
VERSION:2.0
PRODID:neustadtl.gv.at
X-PUBLISHED-TTL:P1D
BEGIN:VEVENT
UID:69e734af52029
DTSTART:20260322T093000
SEQUENCE:0
TRANSP:OPAQUE
DTEND:20260322T030000
LOCATION:GH Rosenthaler
SUMMARY:ÖKB - Jahreshauptversammlung
CLASS:PUBLIC
DTSTAMP:20260421T102623Z
END:VEVENT
END:VCALENDAR