BEGIN:VCALENDAR
VERSION:2.0
PRODID:oed-oehling.gv.at
X-PUBLISHED-TTL:P1D
BEGIN:VEVENT
UID:69e733436ec82
DTSTART:20260325T190000
SEQUENCE:0
TRANSP:OPAQUE
DTEND:20260325T200000
LOCATION:Turnsaal VS Oed
SUMMARY:Bewegung für Körper & Rücken
CLASS:PUBLIC
DTSTAMP:20260421T102019Z
END:VEVENT
END:VCALENDAR