BEGIN:VCALENDAR
VERSION:2.0
PRODID:oed-oehling.gv.at
X-PUBLISHED-TTL:P1D
BEGIN:VEVENT
UID:69e9e02c1d3bb
DTSTART:20260318T190000
SEQUENCE:0
TRANSP:OPAQUE
DTEND:20260318T200000
LOCATION:Turnsaal VS Oed
SUMMARY:Bewegung für Körper & Rücken
CLASS:PUBLIC
DTSTAMP:20260423T110236Z
END:VEVENT
END:VCALENDAR