BEGIN:VCALENDAR
VERSION:2.0
PRODID:gresten-land.gv.at
X-PUBLISHED-TTL:P1D
BEGIN:VEVENT
UID:69e74b11e5128
DTSTART:20260402T000000
SEQUENCE:0
TRANSP:OPAQUE
DTEND:20260402T030000
LOCATION:Scheibbs - Stocksporthalle
SUMMARY:Pensionisten Cup
CLASS:PUBLIC
DESCRIPTION:Termin: Donnerstag 02. April \nStart: Wird bekannt gegeben
DTSTAMP:20260421T120153Z
END:VEVENT
END:VCALENDAR