BEGIN:VCALENDAR
VERSION:2.0
PRODID:strengberg.gv.at
X-PUBLISHED-TTL:P1D
BEGIN:VEVENT
UID:69e733b904613
DTSTART:20260306T000000
SEQUENCE:0
TRANSP:OPAQUE
DTEND:20260307T030000
LOCATION:Feuerwehrhaus Strengberg
SUMMARY:Feuerlöscherüberprüfung
CLASS:PUBLIC
DTSTAMP:20260421T102217Z
END:VEVENT
END:VCALENDAR