BEGIN:VCALENDAR
VERSION:2.0
PRODID:gresten-land.gv.at
X-PUBLISHED-TTL:P1D
BEGIN:VEVENT
UID:69e74c34ea484
DTSTART:20260318T140000
SEQUENCE:0
TRANSP:OPAQUE
DTEND:20260318T030000
LOCATION:Klein Eibenberg
SUMMARY:Josefitreffen 
CLASS:PUBLIC
DESCRIPTION:Unsere Pensionistenfreunde aus Ybbsitz laden uns ein \nam 18. M
 ärz um 14 Uhr nach Eibenberg
DTSTAMP:20260421T120644Z
END:VEVENT
END:VCALENDAR