BEGIN:VCALENDAR
VERSION:2.0
PRODID:st-pantaleon-erla.gv.at
X-PUBLISHED-TTL:P1D
BEGIN:VEVENT
UID:69e9a3a579c86
DTSTART:20261115T080000
SEQUENCE:0
TRANSP:OPAQUE
DTEND:20261115T140000
LOCATION:Kindergarten St. Pantaleon
SUMMARY:Künstlerausstellung
CLASS:PUBLIC
DTSTAMP:20260423T064421Z
END:VEVENT
END:VCALENDAR