BEGIN:VCALENDAR
VERSION:2.0
PRODID:st-pantaleon-erla.gv.at
X-PUBLISHED-TTL:P1D
BEGIN:VEVENT
UID:69e99f8296113
DTSTART:20261115T080000
SEQUENCE:0
TRANSP:OPAQUE
DTEND:20261115T140000
LOCATION:Pfarrhof St. Pantaleon
SUMMARY:Bastel & Bauernmarkt
CLASS:PUBLIC
DTSTAMP:20260423T062642Z
END:VEVENT
END:VCALENDAR