BEGIN:VCALENDAR
VERSION:2.0
PRODID:st-pantaleon-erla.gv.at
X-PUBLISHED-TTL:P1D
BEGIN:VEVENT
UID:69e99ef24ab72
DTSTART:20260430T060000
SEQUENCE:0
TRANSP:OPAQUE
DTEND:20260501T140000
LOCATION:Gemeindegebiet
SUMMARY:Maispielen
CLASS:PUBLIC
DTSTAMP:20260423T062418Z
END:VEVENT
END:VCALENDAR