BEGIN:VCALENDAR
VERSION:2.0
PRODID:st-pantaleon-erla.gv.at
X-PUBLISHED-TTL:P1D
BEGIN:VEVENT
UID:69e9a40e73ee3
DTSTART:20260726T100000
SEQUENCE:0
TRANSP:OPAQUE
DTEND:20260726T140000
LOCATION:Pfarrhof St. Pantaleon
SUMMARY:Kirtagsfrühschoppen
CLASS:PUBLIC
DTSTAMP:20260423T064606Z
END:VEVENT
END:VCALENDAR