BEGIN:VCALENDAR
VERSION:2.0
PRODID:oed-oehling.gv.at
X-PUBLISHED-TTL:P1D
BEGIN:VEVENT
UID:69e73d031a385
DTSTART:20260927T093000
SEQUENCE:0
TRANSP:OPAQUE
DTEND:20260927T093000
LOCATION:Pfarrkirche Öhling + Kirchenplatz 
SUMMARY:Festgottesdienst zum ERNTEDANKFEST 
CLASS:PUBLIC
DESCRIPTION:9:30 Weihe der Erntekrone und Erntegaben am Kirchenplatz\nEinzu
 g in die Kirche zum Festgottesdienst \nmusikalisch mitgestaltet von Musikk
 apelle und Chorus Angelorum  
DTSTAMP:20260421T110155Z
END:VEVENT
END:VCALENDAR