BEGIN:VCALENDAR
VERSION:2.0
PRODID:oed-oehling.gv.at
X-PUBLISHED-TTL:P1D
BEGIN:VEVENT
UID:69e54e7293770
DTSTART:20260906T063000
SEQUENCE:0
TRANSP:OPAQUE
DTEND:20260906T063000
LOCATION:Basilika Sonntagberg
SUMMARY:PFARRWALLFAHRT auf den SONNTAGBERG 
CLASS:PUBLIC
DESCRIPTION:Herzliche Einladung zur Wallfahrt auf den Sonntagberg\n 6:15  S
 egnung der Fußwallfahrer \n 6:30  Abmarsch der Fußwallfahrer \n10:00 Abm
 arsch in Baichberg\n12:00 Einzug zum Gottesdienst in der Basilika\nMusikal
 ische Gestaltung: Chorus Angelorum\nWir laden alle sehr herzlich ein\, ob 
 zu Fuß oder mit dem PKW. \n 
DTSTAMP:20260419T235146Z
END:VEVENT
END:VCALENDAR