BEGIN:VCALENDAR
VERSION:2.0
PRODID:oed-oehling.gv.at
X-PUBLISHED-TTL:P1D
BEGIN:VEVENT
UID:69e54f7d0bf97
DTSTART:20260815T093000
SEQUENCE:0
TRANSP:OPAQUE
DTEND:20260815T093000
LOCATION:Pfarrkirche Öhling 
SUMMARY:Fest MARIA HIMMELFAHRT
CLASS:PUBLIC
DESCRIPTION:Festgottesdienst mit Kräuterweihe 
DTSTAMP:20260419T235613Z
END:VEVENT
END:VCALENDAR