BEGIN:VCALENDAR
VERSION:2.0
PRODID:oed-oehling.gv.at
X-PUBLISHED-TTL:P1D
BEGIN:VEVENT
UID:69e54f1aae87e
DTSTART:20260627T180000
SEQUENCE:0
TRANSP:OPAQUE
DTEND:20260627T180000
LOCATION:Pfarrkirche Öhling mit Festzelt am Kirchenplatz 
SUMMARY:SONNWENDFEUER mit Geburtstagsfest P. Michael+Birgit Ehebruster
CLASS:PUBLIC
DESCRIPTION:Festgottesdienst anlässlich des 80. Geburtstages von Pater Mic
 hael\nund des 50. Geburtstages von Pfarrsekretärin Birgit Ehebruster.\nZu
  diesem Fest sind alle sehr herzlich eingeladen.\n21:30  Fackelzug zum Son
 nwendfeuer in die Urlau\n
DTSTAMP:20260419T235434Z
END:VEVENT
END:VCALENDAR