BEGIN:VCALENDAR
VERSION:2.0
PRODID:oed-oehling.gv.at
X-PUBLISHED-TTL:P1D
BEGIN:VEVENT
UID:69e75666aa60d
DTSTART:20260621T093000
SEQUENCE:0
TRANSP:OPAQUE
DTEND:20260621T093000
LOCATION:Pfarrkirche Öhling 
SUMMARY:FESTGOTTESDIENST mit den JUBELPAAREN des Jahres 2026
CLASS:PUBLIC
DESCRIPTION:Einladung an alle Paare die vor 25/40/50/60/65/70\nJahren gehei
 ratet haben. \nDer Gottesdienst wird vom Chorus Angelorum musikalisch gest
 altet.\nAnschließend Agape im Pfarrgarten \n
DTSTAMP:20260421T125014Z
END:VEVENT
END:VCALENDAR