BEGIN:VCALENDAR
VERSION:2.0
PRODID:oed-oehling.gv.at
X-PUBLISHED-TTL:P1D
BEGIN:VEVENT
UID:69e4e674d8efe
DTSTART:20260619T190000
SEQUENCE:0
TRANSP:OPAQUE
DTEND:20260619T193500
LOCATION:Pfarrkirche Öhling 
SUMMARY:FRIEDENSGEBET
CLASS:PUBLIC
DESCRIPTION:Beten wir gemeinsam um Frieden in der Welt 
DTSTAMP:20260419T162804Z
END:VEVENT
END:VCALENDAR