BEGIN:VCALENDAR
VERSION:2.0
PRODID:oed-oehling.gv.at
X-PUBLISHED-TTL:P1D
BEGIN:VEVENT
UID:69e54fec06e27
DTSTART:20260604T093000
SEQUENCE:0
TRANSP:OPAQUE
DTEND:20260604T104500
LOCATION:Hauptplatz Mauer und Pfarrkirche Öhling 
SUMMARY:FRONLEICHNAM
CLASS:PUBLIC
DESCRIPTION:Fronleichnamsgottesdienst am Hauptplatz in Mauer \nanschließen
 d Prozession mit Altar bei Fam. Grubbauer zum Abschluss in die Kirche 
DTSTAMP:20260419T235804Z
END:VEVENT
END:VCALENDAR