BEGIN:VCALENDAR
VERSION:2.0
PRODID:oed-oehling.gv.at
X-PUBLISHED-TTL:P1D
BEGIN:VEVENT
UID:69e54fcc13c56
DTSTART:20260509T100000
SEQUENCE:0
TRANSP:OPAQUE
DTEND:20260509T112000
LOCATION:Pfarrkirche Öhling 
SUMMARY:FIRMUNG
CLASS:PUBLIC
DESCRIPTION:Pfarrfirmung mit Abt Petrus Pilsinger 
DTSTAMP:20260419T235732Z
END:VEVENT
END:VCALENDAR