BEGIN:VCALENDAR
VERSION:2.0
PRODID:oed-oehling.gv.at
X-PUBLISHED-TTL:P1D
BEGIN:VEVENT
UID:69e55227f1026
DTSTART:20260515T190000
SEQUENCE:0
TRANSP:OPAQUE
DTEND:20260515T193500
LOCATION:Pfarrkirche Öhling 
SUMMARY:FRIEDENSGEBET 
CLASS:PUBLIC
DESCRIPTION:Beten wir gemeinsam um Frieden in der Welt 
DTSTAMP:20260420T000735Z
END:VEVENT
END:VCALENDAR