BEGIN:VCALENDAR
VERSION:2.0
PRODID:oed-oehling.gv.at
X-PUBLISHED-TTL:P1D
BEGIN:VEVENT
UID:69e740da38a00
DTSTART:20260502T183000
SEQUENCE:0
TRANSP:OPAQUE
DTEND:20260502T220000
LOCATION:Winkling  bei Familie Siegl 
SUMMARY:Messe im MAI
CLASS:PUBLIC
DESCRIPTION:Marienmesse bei der SIEGL-Kapelle in Winkling \nmitgestaltet vo
 m Chorus Angelorum 
DTSTAMP:20260421T111818Z
END:VEVENT
END:VCALENDAR