BEGIN:VCALENDAR
VERSION:2.0
PRODID:oed-oehling.gv.at
X-PUBLISHED-TTL:P1D
BEGIN:VEVENT
UID:69e733ec17d42
DTSTART:20260426T093000
SEQUENCE:0
TRANSP:OPAQUE
DTEND:20260426T103000
LOCATION:Pfarrkirche Öhling 
SUMMARY:Erstkommunion Pfarre Öhling
CLASS:PUBLIC
DESCRIPTION:Erstkommuniongottesdienst der 2. Klassen der Volksschule Öhlin
 g\nmit anschließender Agape auf dem Kirchenplatz 
DTSTAMP:20260421T102308Z
END:VEVENT
END:VCALENDAR