BEGIN:VCALENDAR
VERSION:2.0
PRODID:oed-oehling.gv.at
X-PUBLISHED-TTL:P1D
BEGIN:VEVENT
UID:69e755cfbb086
DTSTART:20260418T183000
SEQUENCE:0
TRANSP:OPAQUE
DTEND:20260418T210000
LOCATION:Pfarrkirche Öhling  + Pfarrsaal Öhling 
SUMMARY:SENDUNGSMESSE der FIRMLINGE 
CLASS:PUBLIC
DESCRIPTION:Abschluss der Firmvorbereitung mit der Sendungsmesse\nund ansch
 ließendem Grillfest - mit Eltern und Geschwistern  
DTSTAMP:20260421T124743Z
END:VEVENT
END:VCALENDAR