BEGIN:VCALENDAR
VERSION:2.0
PRODID:oed-oehling.gv.at
X-PUBLISHED-TTL:P1D
BEGIN:VEVENT
UID:69e551b5d2427
DTSTART:20260417T190000
SEQUENCE:0
TRANSP:OPAQUE
DTEND:20260417T193500
LOCATION:Pfarrkirche Öhling 
SUMMARY:FRIEDENSGEBET
CLASS:PUBLIC
DESCRIPTION:Beten wir gemeinsam um Frieden in der Welt!
DTSTAMP:20260420T000541Z
END:VEVENT
END:VCALENDAR