BEGIN:VCALENDAR
VERSION:2.0
PRODID:oed-oehling.gv.at
X-PUBLISHED-TTL:P1D
BEGIN:VEVENT
UID:69e7544c331bf
DTSTART:20260412T093000
SEQUENCE:0
TRANSP:OPAQUE
DTEND:20260412T102000
LOCATION:Pfarrkirche Öhling 
SUMMARY:Gottesdienst mit Taufbandübergabe 
CLASS:PUBLIC
DESCRIPTION:Bei diesem Gottesdienst werden die Taufbänder der Täuflinge\n
 des Vorjahres (2025) übergeben. Der Kinderchor gestaltet musikalisch den 
 Gottesdienst mit.
DTSTAMP:20260421T124116Z
END:VEVENT
END:VCALENDAR