BEGIN:VCALENDAR
VERSION:2.0
PRODID:oed-oehling.gv.at
X-PUBLISHED-TTL:P1D
BEGIN:VEVENT
UID:69e76c466a0b5
DTSTART:20260404T100000
SEQUENCE:0
TRANSP:OPAQUE
DTEND:20260404T103500
LOCATION:Pfarrsaal Öhling
SUMMARY:OSTER-KINDERKIRCHE 
CLASS:PUBLIC
DESCRIPTION:Wir möchten mit den Kinder in einer kurzen Feierstunde die Tag
 e vom Palmsonntag bis zum Ostersonntag mit allen Sinnen bewußt erlebbar m
 achen.\nHerzliche Einladung an Eltern/Großeltern mit Kindern bis 6 Jahre.
  
DTSTAMP:20260421T142334Z
END:VEVENT
END:VCALENDAR