BEGIN:VCALENDAR
VERSION:2.0
PRODID:oed-oehling.gv.at
X-PUBLISHED-TTL:P1D
BEGIN:VEVENT
UID:69e54f5e8c0e5
DTSTART:20260405T093000
SEQUENCE:0
TRANSP:OPAQUE
DTEND:20260405T104000
LOCATION:Pfarrkirche Öhling 
SUMMARY:OSTERSONNTAG
CLASS:PUBLIC
DESCRIPTION:Hochamt zum Ostersonntag mit dem Chorus Angelorum 
DTSTAMP:20260419T235542Z
END:VEVENT
END:VCALENDAR