BEGIN:VCALENDAR
VERSION:2.0
PRODID:oed-oehling.gv.at
X-PUBLISHED-TTL:P1D
BEGIN:VEVENT
UID:69e7324d86e07
DTSTART:20260404T193000
SEQUENCE:0
TRANSP:OPAQUE
DTEND:20260404T211500
LOCATION:Pfarrkirche Öhling 
SUMMARY:KARSAMSTAG
CLASS:PUBLIC
DESCRIPTION:Osternachtsfeier mitgestaltet vom Chorus Angelorum 
DTSTAMP:20260421T101613Z
END:VEVENT
END:VCALENDAR