BEGIN:VCALENDAR
VERSION:2.0
PRODID:oed-oehling.gv.at
X-PUBLISHED-TTL:P1D
BEGIN:VEVENT
UID:69e5502a2d780
DTSTART:20260403T150000
SEQUENCE:0
TRANSP:OPAQUE
DTEND:20260403T150000
LOCATION:Pfarrkirche Öhling 
SUMMARY:KARFREITAG
CLASS:PUBLIC
DESCRIPTION:Feier vom Leiden und Sterben Christi  mitgestaltet vom\nChorus 
 Angelorum 
DTSTAMP:20260419T235906Z
END:VEVENT
END:VCALENDAR